BEGIN:VCALENDAR
VERSION:2.0
PRODID:-//Gemeindeverband Mittleres Schussental - ECPv6.15.20//NONSGML v1.0//EN
CALSCALE:GREGORIAN
METHOD:PUBLISH
X-WR-CALNAME:Gemeindeverband Mittleres Schussental
X-ORIGINAL-URL:https://gmschussental.de
X-WR-CALDESC:Veranstaltungen für Gemeindeverband Mittleres Schussental
REFRESH-INTERVAL;VALUE=DURATION:PT1H
X-Robots-Tag:noindex
X-PUBLISHED-TTL:PT1H
BEGIN:VTIMEZONE
TZID:Europe/Berlin
BEGIN:DAYLIGHT
TZOFFSETFROM:+0100
TZOFFSETTO:+0200
TZNAME:CEST
DTSTART:20220327T010000
END:DAYLIGHT
BEGIN:STANDARD
TZOFFSETFROM:+0200
TZOFFSETTO:+0100
TZNAME:CET
DTSTART:20221030T010000
END:STANDARD
BEGIN:DAYLIGHT
TZOFFSETFROM:+0100
TZOFFSETTO:+0200
TZNAME:CEST
DTSTART:20230326T010000
END:DAYLIGHT
BEGIN:STANDARD
TZOFFSETFROM:+0200
TZOFFSETTO:+0100
TZNAME:CET
DTSTART:20231029T010000
END:STANDARD
BEGIN:DAYLIGHT
TZOFFSETFROM:+0100
TZOFFSETTO:+0200
TZNAME:CEST
DTSTART:20240331T010000
END:DAYLIGHT
BEGIN:STANDARD
TZOFFSETFROM:+0200
TZOFFSETTO:+0100
TZNAME:CET
DTSTART:20241027T010000
END:STANDARD
END:VTIMEZONE
BEGIN:VEVENT
DTSTART;TZID=Europe/Berlin:20231110T170000
DTEND;TZID=Europe/Berlin:20231110T203000
DTSTAMP:20260422T140857
CREATED:20231025T124820Z
LAST-MODIFIED:20231113T132043Z
UID:10000005-1699635600-1699648200@gmschussental.de
SUMMARY:Bürgerinformations­veranstaltung zum GMS-Klimaanpassungs­konzept
DESCRIPTION:Am 12. Oktober 2022 sind alle interessierten Bürgerinnen und Bürger herzlich eingeladen\, sich an der Erarbeitung des Klimaanpassungskonzepts für den Gemeindeverband Mittleres Schussental zu beteiligen. \nDas Klimaanpassungskonzept wird seit dem Mai 2021 erarbeitet und deckt die Frage nach der notwendigen Anpassung an die Folgen des Klimawandels in den Handlungsfeldern Menschliche Gesundheit und Risikovorsorge\, Bauen\, Wohnen\, Freiraum- und Siedlungsentwicklung\, Landwirtschaft\, Wald- und Forstwirtschaft\, Wasser und Wasserhaushalt\, Boden und Bodenschutz sowie Artenschutz und Biodiversität im Gemeindeverband Mittleres Schussental ab. Im Rahmen der Bürgerinformations- und Beteiligungsveranstaltung wird der bisherige Stand des Klimaanpassungskonzepts durch das Umweltberatungsbüro GEO-NET und das Raumplanungsbüro HHP.raumentwicklung vorgestellt. \nDie Veranstaltung hat die folgenden Themenschwerpunkte: \n\nErgebnisse der Stadtklimaanalyse: Wie wirkt sich der globalen Klimawandel auf Klima und Wetter im Mittleren Schussental aus und welche Auswirkungen sind zukünftig zu erwarten?\nErgebnisse der Verwundbarkeitsuntersuchung: Welche Betroffenheiten und Handlungsbedarfe ergeben sich aus den klimatischen Veränderungen in den einzelnen Handlungsfeldern für die kommunale Klimaanpassung?\nMaßnahmen für ein klimaangepasstes Mittleres Schussental: Vorstellung und Diskussion der Maßnahmenvorschläge für die Klimaanpassung.\n\nAls lokale ExpertInnen kennen Sie sich vor Ort bestens aus und können einen wichtigen Beitrag für ein zielgerichtetes Klimaanpassungskonzept leisten. Wir freuen uns auf Ihr Kommen! \nHintergrund:\nBereits im Juli 2017 hat die Verbandsversammlung zugestimmt\, im Rahmen des KLIMOPASS-Förderprogramms des Landes einen Förderantrag für die Erarbeitung eines kommunalen Klimaanpassungskonzeptes im Rahmen der Neuaufstellung des Flächennutzungs- und Landschaftsplans zu stellen.\nMit Vorlage des Bewilligungsbescheids haben die Arbeiten am Klimaanpassungskonzept im Mai 2021 begonnen. Flächennutzungs- und Landschaftsplan werden derzeit mit einem Planungshorizont bis 2040 erarbeitet. Die wesentlichen Erkenntnisse des Klimaanpassungskonzepts sollen im weiteren Verlauf in beide Planwerke mit einfließen.
URL:https://gmschussental.de/veranstaltung/buergerinformationsveranstaltung-zum-gms-klimaanpassungskonzept/
LOCATION:Gemeindehalle Baienfurt\, Marktplatz 2\, Baienfurt\, 88255
CATEGORIES:Klima
ATTACH;FMTTYPE=image/jpeg:https://gmschussental.de/wp-content/uploads/2023/11/GMS_Logo_auf_Hingergrund.jpg
END:VEVENT
END:VCALENDAR