BEGIN:VCALENDAR
VERSION:2.0
PRODID:-//Gemeindeverband Mittleres Schussental - ECPv6.15.20//NONSGML v1.0//EN
CALSCALE:GREGORIAN
METHOD:PUBLISH
X-ORIGINAL-URL:https://gmschussental.de
X-WR-CALDESC:Veranstaltungen für Gemeindeverband Mittleres Schussental
REFRESH-INTERVAL;VALUE=DURATION:PT1H
X-Robots-Tag:noindex
X-PUBLISHED-TTL:PT1H
BEGIN:VTIMEZONE
TZID:Europe/Berlin
BEGIN:DAYLIGHT
TZOFFSETFROM:+0100
TZOFFSETTO:+0200
TZNAME:CEST
DTSTART:20230326T010000
END:DAYLIGHT
BEGIN:STANDARD
TZOFFSETFROM:+0200
TZOFFSETTO:+0100
TZNAME:CET
DTSTART:20231029T010000
END:STANDARD
BEGIN:DAYLIGHT
TZOFFSETFROM:+0100
TZOFFSETTO:+0200
TZNAME:CEST
DTSTART:20240331T010000
END:DAYLIGHT
BEGIN:STANDARD
TZOFFSETFROM:+0200
TZOFFSETTO:+0100
TZNAME:CET
DTSTART:20241027T010000
END:STANDARD
BEGIN:DAYLIGHT
TZOFFSETFROM:+0100
TZOFFSETTO:+0200
TZNAME:CEST
DTSTART:20250330T010000
END:DAYLIGHT
BEGIN:STANDARD
TZOFFSETFROM:+0200
TZOFFSETTO:+0100
TZNAME:CET
DTSTART:20251026T010000
END:STANDARD
END:VTIMEZONE
BEGIN:VEVENT
DTSTART;TZID=Europe/Berlin:20240704T190000
DTEND;TZID=Europe/Berlin:20240704T210000
DTSTAMP:20260422T144112
CREATED:20240617T135408Z
LAST-MODIFIED:20240617T142555Z
UID:10000013-1720119600-1720126800@gmschussental.de
SUMMARY:Vortrag „Klimawandel und Gesundheit“
DESCRIPTION:Einladung zur Veranstaltung: Gesundheit im Klimawandel\n\nDer Gemeindeverband Mittleres Schussental lädt zur Veranstaltung Klimawandel und Gesundheit ein\, die am 4. Juli von 19:00 bis 21:00 Uhr im Gemeindesaal in Berg stattfindet. \nHitze ist das größte durch den Klimawandel bedingte Gesundheitsrisiko in Deutschland. Sie kann für alle gefährlich werden und das Risiko wird in den kommenden Jahren weiter zunehmen. Frau Dr. med. Christin Löffler von den SLK-Kliniken Heilbronn und aktive Medizinerin bei der Deutschen Allianz für Klimawandel und Gesundheit e.V. – KLUG – wird auf dieser Veranstaltung umfassende Einblicke in die Auswirkungen des Klimawandels auf unsere Gesundheit geben und aufzeigen\, wie ein guter Schutz vor den Auswirkungen steigender Temperaturen und zunehmender Hitzeereignisse auf die Gesundheit gelingen kann.\nKLUG e.V. setzt sich engagiert für die Stärkung des Gesundheitsschutzes durch Stärkung des Klimaschutzes ein. Die Aufklärung der Gesundheitsberufe\, der Öffentlichkeit sowie der Vertreter*innen von Politik und Wirtschaft über die Gefahren des Klimawandels sowie den Nutzen der Bewältigung von Klimawandelfolgen für die Gesundheit der Bevölkerung ist ein großes Anliegen. \nDie Veranstaltung bietet eine hervorragende Gelegenheit\, mehr über das Thema Gesundheit im Klimawandel zu erfahren. \nWir freuen uns auf Ihr Kommen und einen regen Austausch zu diesem wichtigen Thema. \nMehr zu Klimawandel und Gesundheit erfahren Sie hier
URL:https://gmschussental.de/veranstaltung/vortrag-klimawandel-und-gesundheit/
LOCATION:Bürgersaal Berg\, Bergstraße 35\, Berg\, 88276
CATEGORIES:Allgemein,Klima
ATTACH;FMTTYPE=image/jpeg:https://gmschussental.de/wp-content/uploads/2023/11/GMS_Logo_auf_Hingergrund.jpg
END:VEVENT
END:VCALENDAR