BEGIN:VCALENDAR
VERSION:2.0
PRODID:-//Gemeindeverband Mittleres Schussental - ECPv6.15.20//NONSGML v1.0//EN
CALSCALE:GREGORIAN
METHOD:PUBLISH
X-WR-CALNAME:Gemeindeverband Mittleres Schussental
X-ORIGINAL-URL:https://gmschussental.de
X-WR-CALDESC:Veranstaltungen für Gemeindeverband Mittleres Schussental
REFRESH-INTERVAL;VALUE=DURATION:PT1H
X-Robots-Tag:noindex
X-PUBLISHED-TTL:PT1H
BEGIN:VTIMEZONE
TZID:Europe/Berlin
BEGIN:DAYLIGHT
TZOFFSETFROM:+0100
TZOFFSETTO:+0200
TZNAME:CEST
DTSTART:20240331T010000
END:DAYLIGHT
BEGIN:STANDARD
TZOFFSETFROM:+0200
TZOFFSETTO:+0100
TZNAME:CET
DTSTART:20241027T010000
END:STANDARD
BEGIN:DAYLIGHT
TZOFFSETFROM:+0100
TZOFFSETTO:+0200
TZNAME:CEST
DTSTART:20250330T010000
END:DAYLIGHT
BEGIN:STANDARD
TZOFFSETFROM:+0200
TZOFFSETTO:+0100
TZNAME:CET
DTSTART:20251026T010000
END:STANDARD
BEGIN:DAYLIGHT
TZOFFSETFROM:+0100
TZOFFSETTO:+0200
TZNAME:CEST
DTSTART:20260329T010000
END:DAYLIGHT
BEGIN:STANDARD
TZOFFSETFROM:+0200
TZOFFSETTO:+0100
TZNAME:CET
DTSTART:20261025T010000
END:STANDARD
END:VTIMEZONE
BEGIN:VEVENT
DTSTART;TZID=Europe/Berlin:20250706T140000
DTEND;TZID=Europe/Berlin:20250706T140000
DTSTAMP:20260420T161300
CREATED:20250624T070412Z
LAST-MODIFIED:20250709T070907Z
UID:10000028-1751810400-1751810400@gmschussental.de
SUMMARY:Geführte STADTRADELN-Radtour: Gemeinsam durch das Mittlere Schussental
DESCRIPTION:Sie haben Lust\, beim STADTRADELN nicht nur Kilometer zu sammeln\, sondern auch die Region und nette Mitradelnde kennenzulernen? Dann schwingen Sie sich aufs Rad und seien Sie dabei\, wenn wir gemeinsam mit dem ADFC am Sonntag\, 6. Juli 2025\, eine abwechslungsreiche Kennenlernrunde durch den Gemeindeverband Mittleres Schussental (Ravensburg\, Weingarten\, Baienfurt\, Baindt\, Berg) drehen! \n\nStart & Ziel:\nStadtgarten Weingarten\, Haltestelle Löwenplatz; Start um 14 Uhr \nLänge & Dauer:\nEtwa 36 km\, mit mehreren informativen Stopps – insgesamt ca. 3\,5 Stunden. Die Tour ist für alle geeignet\, die gerne Rad fahren – auch Gelegenheitsradler/innen sind herzlich willkommen! \nRoute & Highlights: (siehe auch Routenkarte unten)\nUnsere geführte Radtour startet und endet am Stadtgarten\, Haltestelle Löwenplatz in Weingarten. Gemeinsam fahren wir durch das Lauratal nach Schlier. Das Lauratal ist an diesem Tag für Kfz gesperrt\, sodass wir entspannt und ohne Autoverkehr bergauf radeln können. Über Fenken geht es wieder hinunter nach Ravensburg\, wo wir unseren ersten Stopp am Gänsbühl einlegen. Weiter geht es zum Münster in Weißenau und danach entlang der Schussen zum neu gestalteten Schussenpark westlich des Ravensburger Bahnhofs. \nAm neuen Escher-Platz im Schussenpark\, zwischen Sportfeld und Spielplatz\, erwartet Sie ein kleiner Snack und ein Getränk. Wer möchte\, kann sich hier gegen 15:40 Uhr nachträglich der Radtour anschließen. \nWeiter geht die Fahrt in Richtung Berg\, mit herrlichem Blick ins Schussental\, anschließend weiter nach Baienfurt mit Halt am Rathaus. Der letzte Stopp ist in Baindt\, wo wir die neu gestaltete Ortsmitte besichtigen. Die Tour endet wieder in Weingarten am Stadtgarten. \nAn den Stopps gibt es jeweils kurze Informationen und interessante Einblicke zu den Orten und der Region. \n\nWas sollten Sie mitbringen? \n\nEinen Fahrradhelm & ein verkehrssicheres Fahrrad (Alltagsrad\, Tourenrad\, E-Bike\, Mountainbike oder ähnliches)\nEtwas zu trinken\nWetterangepasste Kleidung & Sonnenschutz\nGute Laune und Freude am Radfahren\n\n\nHinweise:\nDie Teilnahme erfolgt auf eigene Gefahr. Bitte halten Sie sich während der Tour an die Straßenverkehrsordnung (StVO). Das Tempo richtet sich nach den Teilnehmenden ohne Motorunterstützung. \nEine Anmeldung ist nicht erforderlich – einfach vorbeikommen und mitradeln! \nMachen Sie mit\, entdecken Sie unsere Mitgliedskommunen vom Rad aus und sammeln Sie gemeinsam mit uns Kilometer für das STADTRADELN! Wir freuen uns! \nIhr ADFC Ravensburg und der Gemeindeverband Mittleres Schussental \n\nRoutenkarte Radtour
URL:https://gmschussental.de/veranstaltung/gefuehrten-stadtradeln-radtour-gemeinsam-durch-das-mittlere-schussental/
LOCATION:Weingarten | Haltestelle Löwenplatz\, Löwenplatz\, Weingarten\, Baden-Württemberg\, 88250\, Germany
CATEGORIES:Allgemein
ATTACH;FMTTYPE=image/png:https://gmschussental.de/wp-content/uploads/2025/06/GMS-Radtour_Werbekarte-scaled.png
GEO:47.80724;9.639786
X-APPLE-STRUCTURED-LOCATION;VALUE=URI;X-ADDRESS=Weingarten | Haltestelle Löwenplatz Löwenplatz Weingarten Baden-Württemberg 88250 Germany;X-APPLE-RADIUS=500;X-TITLE=Löwenplatz:geo:9.639786,47.80724
END:VEVENT
END:VCALENDAR